BEGIN:VCALENDAR
VERSION:2.0
PRODID:-//NEW Women&#039;s Business Center - ECPv5.9.0//NONSGML v1.0//EN
CALSCALE:GREGORIAN
METHOD:PUBLISH
X-WR-CALNAME:NEW Women&#039;s Business Center
X-ORIGINAL-URL:https://staging-newwbc.kinsta.cloud
X-WR-CALDESC:Events for NEW Women&#039;s Business Center
BEGIN:VTIMEZONE
TZID:America/Los_Angeles
BEGIN:DAYLIGHT
TZOFFSETFROM:-0800
TZOFFSETTO:-0700
TZNAME:PDT
DTSTART:20210314T100000
END:DAYLIGHT
BEGIN:STANDARD
TZOFFSETFROM:-0700
TZOFFSETTO:-0800
TZNAME:PST
DTSTART:20211107T090000
END:STANDARD
END:VTIMEZONE
BEGIN:VEVENT
DTSTART;TZID=America/Los_Angeles:20210901T100000
DTEND;TZID=America/Los_Angeles:20210901T120000
DTSTAMP:20210922T033945
CREATED:20210812T195243Z
LAST-MODIFIED:20210812T195243Z
UID:13493-1630490400-1630497600@staging-newwbc.kinsta.cloud
SUMMARY:Women Own Small Business Certification
DESCRIPTION:The WOSB is a program coordinated by the Small Business Administration (SBA) with the goal of giving women-owned businesses easier access to the resource they need to grow their business. The Economically Disadvantaged Woman-Owned Small Business (EDWOSB) certification is a subset of the WOSB program. These certifications offer the chance to compete fairly for federal contracts and gain access to resources tailored to promoting women in business.
URL:https://staging-newwbc.kinsta.cloud/event/women-own-small-business-certification-12/
LOCATION:Webinar
ATTACH;FMTTYPE=image/jpeg:https://neworg.ecenterdirect.com/image/877A60B3-5222-4DA7-A315-5EE044D667D1
END:VEVENT
BEGIN:VEVENT
DTSTART;TZID=America/Los_Angeles:20210901T120000
DTEND;TZID=America/Los_Angeles:20210901T130000
DTSTAMP:20210922T033945
CREATED:20210817T235712Z
LAST-MODIFIED:20210817T235713Z
UID:13853-1630497600-1630501200@staging-newwbc.kinsta.cloud
SUMMARY:California Relief Grant
DESCRIPTION:This grant is for business owners that started their operation since June 1st 2019 or before\, who can show at least a 25% decrease in their sales from 2019 to 2020 and who made in 2020 at least $1000 in sales. Join our webinar and we will walk you through the application. If you need immediate help book an appointment for one of our advisors to guide you through the process.
URL:https://staging-newwbc.kinsta.cloud/event/california-relief-grant-26/
LOCATION:Webinar
CATEGORIES:Grants & Loans
ATTACH;FMTTYPE=image/jpeg:https://staging-newwbc.kinsta.cloud/wp-content/uploads/2021/08/carelief-scaled.jpg
END:VEVENT
BEGIN:VEVENT
DTSTART;TZID=America/Los_Angeles:20210901T150000
DTEND;TZID=America/Los_Angeles:20210901T160000
DTSTAMP:20210922T033945
CREATED:20210812T194825Z
LAST-MODIFIED:20210812T194825Z
UID:13481-1630508400-1630512000@staging-newwbc.kinsta.cloud
SUMMARY:Ask your loan questions to the SBA- Small Business Administration
DESCRIPTION:Ask your Loan questions to an SBA Officer. What are your next steps as a small business on your financials? Do have a strategy? Do you know what the SBA has that can help your business? Join us and ask the experts
URL:https://staging-newwbc.kinsta.cloud/event/ask-your-loan-questions-to-the-sba-small-business-administration-13/
LOCATION:Webinar
ATTACH;FMTTYPE=image/png:https://staging-newwbc.kinsta.cloud/wp-content/uploads/2021/08/image_A93B205D-98C8-4D02-8B48-E325B6ACD94B.png
END:VEVENT
BEGIN:VEVENT
DTSTART;TZID=America/Los_Angeles:20210901T160000
DTEND;TZID=America/Los_Angeles:20210901T180000
DTSTAMP:20210922T033945
CREATED:20210810T203541Z
LAST-MODIFIED:20210810T203541Z
UID:13458-1630512000-1630519200@staging-newwbc.kinsta.cloud
SUMMARY:How to Start Up a Food Truck
DESCRIPTION:This is part one of a two part series. Discover the start up costs\, health department approval\, and whether to lease or purchase your truck. Instructor: Kim Tapia of The Food Truck Group
URL:https://staging-newwbc.kinsta.cloud/event/how-to-start-up-a-food-truck/
LOCATION:Webinar
CATEGORIES:Restaurants
ATTACH;FMTTYPE=image/jpeg:https://neworg.neoserra.com/image/24/1018906/20?v=9399
END:VEVENT
BEGIN:VEVENT
DTSTART;TZID=America/Los_Angeles:20210901T183000
DTEND;TZID=America/Los_Angeles:20210901T203000
DTSTAMP:20210922T033945
CREATED:20210803T215019Z
LAST-MODIFIED:20210812T202230Z
UID:13319-1630521000-1630528200@staging-newwbc.kinsta.cloud
SUMMARY:Costos y Precios - Programa Crece tu Negocio
DESCRIPTION:El propósito de esta sesión es conocer herramientas para llevar tu negocio de manera más ordenada y profesional\, identificar los elementos que impactan sus costos y calcular sus precios.
URL:https://staging-newwbc.kinsta.cloud/event/costos-y-precios-programa-crece-tu-negocio/
CATEGORIES:LatinaBiz,Swap Meet,Websites & Social Media Marketing
ATTACH;FMTTYPE=image/png:https://staging-newwbc.kinsta.cloud/wp-content/uploads/2021/08/Screenshot-Flyer-SWM.png
END:VEVENT
BEGIN:VEVENT
DTSTART;TZID=America/Los_Angeles:20210902T100000
DTEND;TZID=America/Los_Angeles:20210902T120000
DTSTAMP:20210922T033945
CREATED:20210730T192900Z
LAST-MODIFIED:20210730T192900Z
UID:13302-1630576800-1630584000@staging-newwbc.kinsta.cloud
SUMMARY:Pattern Making For Designers - Fashion
DESCRIPTION:Ready to start your fashion line? In this pattern-making webinar\, you will discover how to construct a pattern and what tools are needed for you to create a successful pattern for your fashion line. * We offer our 1 on 1 consultation and specific services to people that live in Los Angeles County. Book an appointment under Fashion – Maria
URL:https://staging-newwbc.kinsta.cloud/event/pattern-making-for-designers-fashion-3/
LOCATION:Webinar
CATEGORIES:Fashion
ATTACH;FMTTYPE=image/jpeg:https://neworg.ecenterdirect.com/image/0C002BFF-A475-4564-8F4D-8A118A864F82
END:VEVENT
BEGIN:VEVENT
DTSTART;TZID=America/Los_Angeles:20210902T110000
DTEND;TZID=America/Los_Angeles:20210902T120000
DTSTAMP:20210922T033945
CREATED:20210812T195444Z
LAST-MODIFIED:20210827T184826Z
UID:13497-1630580400-1630584000@staging-newwbc.kinsta.cloud
SUMMARY:Social Media a click away to learn all about it through our new platform Brainery Academy.
DESCRIPTION:Marketing on simple steps for you. Social Media includes Facebook\, Pinterest\, Twitter\, Instagram and now you can learn all these platforms with a simple click\, any day\, at any time. We have brought to you the Brainery Academy platform to help you through your steps on becoming a master in social media.
URL:https://staging-newwbc.kinsta.cloud/event/social-media-a-click-away-to-learn-all-about-it-through-our-new-platform-brainery-academy-4/
LOCATION:Webinar
ATTACH;FMTTYPE=image/jpeg:https://neworg.ecenterdirect.com/image/44CD07A8-FE0D-4419-90F0-109D452EDE99
END:VEVENT
BEGIN:VEVENT
DTSTART;TZID=America/Los_Angeles:20210902T120000
DTEND;TZID=America/Los_Angeles:20210902T130000
DTSTAMP:20210922T033945
CREATED:20210816T214611Z
LAST-MODIFIED:20210816T214611Z
UID:13611-1630584000-1630587600@staging-newwbc.kinsta.cloud
SUMMARY:¿Cómo aplicar al Grant de California?
DESCRIPTION:Las solicitudes se recibirán del 9 al 30 de septiembre. Conoce todo lo que se requiere para aplicar al Fondo de Subvención de Ayuda de California. Este Fondo se ha creado para atender las necesidades de capital y asesoramiento de los pequeños negocios de California a medida que reabren y se recuperan del impacto del COVID-19.
URL:https://staging-newwbc.kinsta.cloud/event/como-aplicar-al-grant-de-california/
CATEGORIES:LatinaBiz,Websites & Social Media Marketing
ATTACH;FMTTYPE=image/png:https://staging-newwbc.kinsta.cloud/wp-content/uploads/2021/08/New-CA-Grant.png
END:VEVENT
BEGIN:VEVENT
DTSTART;TZID=America/Los_Angeles:20210902T140000
DTEND;TZID=America/Los_Angeles:20210902T160000
DTSTAMP:20210922T033945
CREATED:20210812T195629Z
LAST-MODIFIED:20210812T195731Z
UID:13500-1630591200-1630598400@staging-newwbc.kinsta.cloud
SUMMARY:Small Business Financial Management
DESCRIPTION:We will explain the concept of financial management and its importance to a small business and its owner. It is crucial to Identify financial management practices\, rules and tools commonly available to small businesses. We will go over how financial management practices\, rules\, and tools work
URL:https://staging-newwbc.kinsta.cloud/event/small-business-financial-management-7/
LOCATION:Webinar
ATTACH;FMTTYPE=image/jpeg:https://neworg.ecenterdirect.com/image/5C3BAC03-92E4-4461-A5E9-25312ACE4EBD
END:VEVENT
BEGIN:VEVENT
DTSTART;TZID=America/Los_Angeles:20210903T090000
DTEND;TZID=America/Los_Angeles:20210903T110000
DTSTAMP:20210922T033945
CREATED:20210812T203610Z
LAST-MODIFIED:20210812T203610Z
UID:13513-1630659600-1630666800@staging-newwbc.kinsta.cloud
SUMMARY:Selling Your Business
DESCRIPTION:Are you planning to change ownership of a business through  selling\, closing\, or handing to a successor.  Have you establish an exit strategy for retirement  including a succession plan\, transfer of  ownership\, and taxes. Join us for a deep conversation on your next steps.
URL:https://staging-newwbc.kinsta.cloud/event/selling-your-business-4/
LOCATION:Webinar
ATTACH;FMTTYPE=image/jpeg:https://neworg.ecenterdirect.com/image/C8F2C382-29A4-47FA-843D-89DCA8E7F582
END:VEVENT
BEGIN:VEVENT
DTSTART;TZID=America/Los_Angeles:20210903T120000
DTEND;TZID=America/Los_Angeles:20210903T130000
DTSTAMP:20210922T033945
CREATED:20210812T202905Z
LAST-MODIFIED:20210812T202905Z
UID:13508-1630670400-1630674000@staging-newwbc.kinsta.cloud
SUMMARY:Business Loans- What is available
DESCRIPTION:Learn what loans are available and what are the banks and other financial institutions are looking to approve or not to approve a loan.  We will answer any of your questions.
URL:https://staging-newwbc.kinsta.cloud/event/business-loans-what-is-available-25/
LOCATION:Webinar
ATTACH;FMTTYPE=image/jpeg:https://neworg.ecenterdirect.com/image/D665660E-0C1A-467B-91D8-7A267EC8CDCC
END:VEVENT
BEGIN:VEVENT
DTSTART;TZID=America/Los_Angeles:20210903T120000
DTEND;TZID=America/Los_Angeles:20210903T130000
DTSTAMP:20210922T033945
CREATED:20210818T000002Z
LAST-MODIFIED:20210818T000003Z
UID:13857-1630670400-1630674000@staging-newwbc.kinsta.cloud
SUMMARY:Armenian- California Relief Grant
DESCRIPTION:This grant is for business owners that started their operation since June 1st 2019 or before\, who can show at least a 25% decrease in their sales from 2019 to 2020 and who made in 2020 at least $1000 in sales. Join our webinar and we will walk you through the application. If you need immediate help book an appointment for one of our advisors to guide you through the process.
URL:https://staging-newwbc.kinsta.cloud/event/armenian-california-relief-grant-5/
LOCATION:Webinar
CATEGORIES:Grants & Loans
ATTACH;FMTTYPE=image/jpeg:https://staging-newwbc.kinsta.cloud/wp-content/uploads/2021/08/carelief-scaled.jpg
END:VEVENT
BEGIN:VEVENT
DTSTART;TZID=America/Los_Angeles:20210907T100000
DTEND;TZID=America/Los_Angeles:20210907T110000
DTSTAMP:20210922T033945
CREATED:20210812T204040Z
LAST-MODIFIED:20210812T204040Z
UID:13518-1631008800-1631012400@staging-newwbc.kinsta.cloud
SUMMARY:Join us to answer your license and permit questions
DESCRIPTION:Please join us to ask your questions about DBA\, EIN\, Business License and more.
URL:https://staging-newwbc.kinsta.cloud/event/join-us-to-answer-your-license-and-permit-questions-9/
LOCATION:Webinar
ATTACH;FMTTYPE=image/jpeg:https://neworg.ecenterdirect.com/image/6F02C9DE-4A23-4F79-A770-BF30F01B3507
END:VEVENT
BEGIN:VEVENT
DTSTART;TZID=America/Los_Angeles:20210907T120000
DTEND;TZID=America/Los_Angeles:20210907T140000
DTSTAMP:20210922T033945
CREATED:20210827T004834Z
LAST-MODIFIED:20210827T005249Z
UID:13997-1631016000-1631023200@staging-newwbc.kinsta.cloud
SUMMARY:Film Production Management Part 4 of 5 - Women in Entertainment WIE
DESCRIPTION:Film Production Management 5-Part Series 8/17/21-9/14/21. Repeats every Tuesday 12:00 PM-2:00 PM – The 5 webinar series is tailored for Independent Producers & Creatives. It will cover how to navigate the entire production cycle from development through distribution. Applies to any film or video project of any length. If you’re interested to sign up for future dates please email Marianna Karapetyan at mkarapetyan@neworg.us.The areas of each session parts are listed below. \n8/17/21. Part 1 Development: How to develop and protect your project. Acquiring a property; scripts; casting & packaging\, legal matters\, talent reps\, planning the production\, breakdowns\, budgets & schedules. \n8/24/21. Part 2 Pre-production: Managing preproduction; Fundamental choices; Tasks\, forecasting\, scheduling & timeline. Key team members; Legal matters & employment issues. Crewing up\, casting up. Production design. Union or nonunion. Finance issues. Solving future problems. \n8/31/21. Part 3 Production: Production departments; Required crew; Process on-set; Managing the set. Protecting your film; different types of productions & crews; scripted versus unscripted; stunts\, effects\, and CGI. Following union rules. \n9/7/21. Part 4 Post Production & Delivery: Post supervision; Editorial\, VFX\, sound\, music; The delivery timeline; delivery “requirements”; licensing\, and legal matters; Looking forward to publicity \n9/14/21. Part 5 Promotion\, Publicity & Distribution: Avenues of distribution; Theatrical\, streaming\, sell-through. Territories and special rights. Publicity\, promotional materials\, social media\, and other marketing; DIY versus middleman distributors. How to get paid.
URL:https://staging-newwbc.kinsta.cloud/event/film-production-management-5-part-series-women-in-entertainment-wie-2-2/
LOCATION:Webinar
CATEGORIES:Women in Entertainment
ATTACH;FMTTYPE=image/jpeg:https://staging-newwbc.kinsta.cloud/wp-content/uploads/2021/07/brands-people-br2HgQuvq6I-unsplash-scaled.jpg
END:VEVENT
BEGIN:VEVENT
DTSTART;TZID=America/Los_Angeles:20210907T150000
DTEND;TZID=America/Los_Angeles:20210907T160000
DTSTAMP:20210922T033945
CREATED:20210816T234642Z
LAST-MODIFIED:20210816T234950Z
UID:13638-1631026800-1631030400@staging-newwbc.kinsta.cloud
SUMMARY:California Relief Grant
DESCRIPTION:This grant is for business owners that started their operation on June 1st\, 2019\, or before.  Who can show at least a 25% decrease in their sales from 2019 to 2020 and who made in 2020 at least $1000 in sales. Join our webinar and we will walk you through the application. If you need immediate help book an appointment for one of our advisors to guide you through the process.
URL:https://staging-newwbc.kinsta.cloud/event/armenian-california-relief-grant-2/
LOCATION:Webinar
ATTACH;FMTTYPE=image/jpeg:https://neworg.ecenterdirect.com/image/EBC77BB8-2CEF-40BB-AFEA-2CB6AD26A90F
END:VEVENT
BEGIN:VEVENT
DTSTART;TZID=America/Los_Angeles:20210907T160000
DTEND;TZID=America/Los_Angeles:20210907T180000
DTSTAMP:20210922T033945
CREATED:20210806T043951Z
LAST-MODIFIED:20210806T043951Z
UID:13385-1631030400-1631037600@staging-newwbc.kinsta.cloud
SUMMARY:Leveraging Reports & Analytics For Your Fashion Brand
DESCRIPTION:Many businesses today are data “rich” and information “poor”. The data report tells us the “What” but data analysis tells us the “why”. Learn how to make sense of the data you have and how to leverage the information as you uncover it.
URL:https://staging-newwbc.kinsta.cloud/event/leveraging-reports-analytics-for-your-fashion-brand-3/
LOCATION:Webinar
CATEGORIES:Fashion
ATTACH;FMTTYPE=image/jpeg:https://staging-newwbc.kinsta.cloud/wp-content/uploads/2021/08/Pricing-your-fashion.png
END:VEVENT
BEGIN:VEVENT
DTSTART;TZID=America/Los_Angeles:20210907T180000
DTEND;TZID=America/Los_Angeles:20210907T200000
DTSTAMP:20210922T033945
CREATED:20210816T235206Z
LAST-MODIFIED:20210816T235206Z
UID:13643-1631037600-1631044800@staging-newwbc.kinsta.cloud
SUMMARY:Patents\, Copyrights & Trademarks
DESCRIPTION:In order to protect your Intellectual Property it is important to understand: Trademarks\, Copyrights and Patents and how each effects your business
URL:https://staging-newwbc.kinsta.cloud/event/patents-copyrights-trademarks-3/
LOCATION:Webinar
ATTACH;FMTTYPE=image/jpeg:https://neworg.ecenterdirect.com/image/AD11537D-4FC0-451C-B7A8-867CE4D85556
END:VEVENT
BEGIN:VEVENT
DTSTART;TZID=America/Los_Angeles:20210908T100000
DTEND;TZID=America/Los_Angeles:20210908T110000
DTSTAMP:20210922T033945
CREATED:20210816T215014Z
LAST-MODIFIED:20210816T215014Z
UID:13613-1631095200-1631098800@staging-newwbc.kinsta.cloud
SUMMARY:¿Cómo aplicar al Grant de California?
DESCRIPTION:Las solicitudes se recibirán del 9 al 30 de septiembre. Conoce todo lo que se requiere para aplicar al Fondo de Subvención de Ayuda de California. Este Fondo se ha creado para atender las necesidades de capital y asesoramiento de los pequeños negocios de California a medida que reabren y se recuperan del impacto del COVID-19.
URL:https://staging-newwbc.kinsta.cloud/event/como-aplicar-al-grant-de-california-2/
CATEGORIES:LatinaBiz,Websites & Social Media Marketing
ATTACH;FMTTYPE=image/png:https://staging-newwbc.kinsta.cloud/wp-content/uploads/2021/08/New-CA-Grant.png
END:VEVENT
BEGIN:VEVENT
DTSTART;TZID=America/Los_Angeles:20210908T120000
DTEND;TZID=America/Los_Angeles:20210908T130000
DTSTAMP:20210922T033945
CREATED:20210816T235459Z
LAST-MODIFIED:20210816T235840Z
UID:13646-1631102400-1631106000@staging-newwbc.kinsta.cloud
SUMMARY:California Relief Grant
DESCRIPTION:This grant is for business owners that started their operation on June 1st\, 2019 or before. Wo can show at least a 25% decrease in their sales from 2019 to 2020 and who made in 2020 at least $1000 in sales. Join our webinar and we will walk you through the application. If you need immediate help book an appointment for one of our advisors to guide you through the process.
URL:https://staging-newwbc.kinsta.cloud/event/ask-your-loan-questions-to-the-sba-small-business-administration-14/
LOCATION:Webinar
ATTACH;FMTTYPE=image/jpeg:https://neworg.ecenterdirect.com/image/C76A4773-9505-4646-9990-81FD703CB016
END:VEVENT
BEGIN:VEVENT
DTSTART;TZID=America/Los_Angeles:20210908T140000
DTEND;TZID=America/Los_Angeles:20210908T150000
DTSTAMP:20210922T033945
CREATED:20210817T000429Z
LAST-MODIFIED:20210817T000429Z
UID:13652-1631109600-1631113200@staging-newwbc.kinsta.cloud
SUMMARY:California Relief Grant
DESCRIPTION:This grant is for business owners that started their operation on June 1st\, 2019 or before. Who can show at least a 25% decrease in their sales from 2019 to 2020 and who made in 2020 at least $1000 in sales. Join our webinar and we will walk you through the application. If you need immediate help book an appointment for one of our advisors to guide you through the process.
URL:https://staging-newwbc.kinsta.cloud/event/california-relief-grant-11/
LOCATION:Webinar
ATTACH;FMTTYPE=image/jpeg:https://neworg.ecenterdirect.com/image/4F0BF812-7EFE-4F63-B121-6C1775E2430E
END:VEVENT
BEGIN:VEVENT
DTSTART;TZID=America/Los_Angeles:20210908T140000
DTEND;TZID=America/Los_Angeles:20210908T150000
DTSTAMP:20210922T033945
CREATED:20210818T000607Z
LAST-MODIFIED:20210818T000607Z
UID:13863-1631109600-1631113200@staging-newwbc.kinsta.cloud
SUMMARY:California Relief Grant
DESCRIPTION:This grant is for business owners that started their operation since June 1st 2019 or before\, who can show at least a 25% decrease in their sales from 2019 to 2020 and who made in 2020 at least $1000 in sales. Join our webinar and we will walk you through the application. If you need inmediate help book an appointment for one of our advisors to guide you through the process.
URL:https://staging-newwbc.kinsta.cloud/event/california-relief-grant-29/
LOCATION:Webinar
CATEGORIES:Grants & Loans
ATTACH;FMTTYPE=image/jpeg:https://staging-newwbc.kinsta.cloud/wp-content/uploads/2021/08/carelief-scaled.jpg
END:VEVENT
BEGIN:VEVENT
DTSTART;TZID=America/Los_Angeles:20210908T160000
DTEND;TZID=America/Los_Angeles:20210908T180000
DTSTAMP:20210922T033945
CREATED:20210811T000036Z
LAST-MODIFIED:20210811T000036Z
UID:13462-1631116800-1631124000@staging-newwbc.kinsta.cloud
SUMMARY:Food Truck Menu and Marketing
DESCRIPTION:This is part two of a two part series. Learn how to create a menu that will attract customers and the best ways to market your truck using Instagram and Tiktok. Instructor: Kim Tapia of The Food Truck Group.
URL:https://staging-newwbc.kinsta.cloud/event/food-truck-menu-and-marketing/
LOCATION:Webinar
CATEGORIES:Restaurants
ATTACH;FMTTYPE=image/jpeg:https://neworg.neoserra.com/image/24/1018933/20?v=9474
END:VEVENT
BEGIN:VEVENT
DTSTART;TZID=America/Los_Angeles:20210908T183000
DTEND;TZID=America/Los_Angeles:20210908T203000
DTSTAMP:20210922T033945
CREATED:20210803T215337Z
LAST-MODIFIED:20210812T202131Z
UID:13323-1631125800-1631133000@staging-newwbc.kinsta.cloud
SUMMARY:Ventas por las Redes Sociales - Programa Crece tu Negocio
DESCRIPTION:Logra una mayor efectividad en las redes sociales incorporando aplicaciones claves para vender en línea. Conócelas y utilizalas en beneficio de tu negocio.
URL:https://staging-newwbc.kinsta.cloud/event/ventas-por-las-redes-sociales-programa-crece-tu-negocio/
CATEGORIES:LatinaBiz,Swap Meet,Websites & Social Media Marketing
ATTACH;FMTTYPE=image/png:https://staging-newwbc.kinsta.cloud/wp-content/uploads/2021/08/Screenshot-Flyer-SWM.png
END:VEVENT
BEGIN:VEVENT
DTSTART;TZID=America/Los_Angeles:20210909T100000
DTEND;TZID=America/Los_Angeles:20210909T110000
DTSTAMP:20210922T033945
CREATED:20210817T000741Z
LAST-MODIFIED:20210817T000741Z
UID:13655-1631181600-1631185200@staging-newwbc.kinsta.cloud
SUMMARY:Social Media a click away to learn all about it through our new platform Brainery Academy.
DESCRIPTION:Marketing on simple steps for you. Social Media includes Facebook\, Pinterest\, Twitter\, Instagram and now you can learn all these platforms with a simple click\, any day\, at any time. We have brought to you the Brainery Academy platform to help you through your steps on becoming a master in social media.
URL:https://staging-newwbc.kinsta.cloud/event/social-media-a-click-away-to-learn-all-about-it-through-our-new-platform-brainery-academy-5/
LOCATION:Webinar
ATTACH;FMTTYPE=image/jpeg:https://neworg.ecenterdirect.com/image/5BEBC4B1-222B-4971-AF0E-3746B20710F6
END:VEVENT
BEGIN:VEVENT
DTSTART;TZID=America/Los_Angeles:20210909T140000
DTEND;TZID=America/Los_Angeles:20210909T160000
DTSTAMP:20210922T033945
CREATED:20210817T000913Z
LAST-MODIFIED:20210817T000913Z
UID:13658-1631196000-1631203200@staging-newwbc.kinsta.cloud
SUMMARY:Budgeting and Pricing for a Small Business
DESCRIPTION:Budgeting and pricing may not be the sexiest couple on the block\, but they’re the dynamic duo that can make your dreams become reality. Whether you’re running a promotion or selling\, it’s vital to have a grasp of exactly how much money you need to bring your vision to life.
URL:https://staging-newwbc.kinsta.cloud/event/budgeting-and-pricing-for-a-small-business-13/
LOCATION:Webinar
ATTACH;FMTTYPE=image/jpeg:https://neworg.ecenterdirect.com/image/C9198450-506A-45F3-A674-ABB52030375F
END:VEVENT
BEGIN:VEVENT
DTSTART;TZID=America/Los_Angeles:20210909T160000
DTEND;TZID=America/Los_Angeles:20210909T170000
DTSTAMP:20210922T033945
CREATED:20210816T215258Z
LAST-MODIFIED:20210816T215258Z
UID:13615-1631203200-1631206800@staging-newwbc.kinsta.cloud
SUMMARY:¿Cómo aplicar al Grant de California?
DESCRIPTION:Las solicitudes se recibirán del 9 al 30 de septiembre. Conoce todo lo que se requiere para aplicar al Fondo de Subvención de Ayuda de California. Este Fondo se ha creado para atender las necesidades de capital y asesoramiento de los pequeños negocios de California a medida que reabren y se recuperan del impacto del COVID-19.
URL:https://staging-newwbc.kinsta.cloud/event/como-aplicar-al-grant-de-california-3/
CATEGORIES:LatinaBiz,Websites & Social Media Marketing
ATTACH;FMTTYPE=image/png:https://staging-newwbc.kinsta.cloud/wp-content/uploads/2021/08/New-CA-Grant.png
END:VEVENT
BEGIN:VEVENT
DTSTART;TZID=America/Los_Angeles:20210909T180000
DTEND;TZID=America/Los_Angeles:20210909T200000
DTSTAMP:20210922T033945
CREATED:20210806T045132Z
LAST-MODIFIED:20210806T045132Z
UID:13390-1631210400-1631217600@staging-newwbc.kinsta.cloud
SUMMARY:Tik tok - Fashion
DESCRIPTION:Use TikTok Challenges and effective marketing strategies to build your brand and generate sales.
URL:https://staging-newwbc.kinsta.cloud/event/tik-tok-fashion/
LOCATION:Webinar
CATEGORIES:Fashion
ATTACH;FMTTYPE=image/jpeg:https://staging-newwbc.kinsta.cloud/wp-content/uploads/2021/08/Untitled-design-2.png
END:VEVENT
BEGIN:VEVENT
DTSTART;TZID=America/Los_Angeles:20210910T090000
DTEND;TZID=America/Los_Angeles:20210910T110000
DTSTAMP:20210922T033945
CREATED:20210817T001413Z
LAST-MODIFIED:20210817T001413Z
UID:13667-1631264400-1631271600@staging-newwbc.kinsta.cloud
SUMMARY:Mom's Ideas to start a business
DESCRIPTION:Business ownership can certainly be time-consuming. But if you are a mom and want to start a business while still having time to spend with your family\, there are options out there. There are so many successful mom entrepreneurs that can inspire your own entrepreneurial journey. Join us to discuss options for your new adventure.
URL:https://staging-newwbc.kinsta.cloud/event/moms-ideas-to-start-a-business-2/
LOCATION:Webinar
ATTACH;FMTTYPE=image/jpeg:https://neworg.ecenterdirect.com/image/7E07AE47-4D11-40C3-BC1D-3334AF5C7D64
END:VEVENT
BEGIN:VEVENT
DTSTART;TZID=America/Los_Angeles:20210910T120000
DTEND;TZID=America/Los_Angeles:20210910T130000
DTSTAMP:20210922T033945
CREATED:20210817T001107Z
LAST-MODIFIED:20210817T001107Z
UID:13661-1631275200-1631278800@staging-newwbc.kinsta.cloud
SUMMARY:Business Loans- What is available
DESCRIPTION:Learn what loans are available and what are the banks and other financial institutions are looking to approve or not to approve a loan.  We will answer any of your questions.
URL:https://staging-newwbc.kinsta.cloud/event/business-loans-what-is-available-26/
LOCATION:Webinar
ATTACH;FMTTYPE=image/jpeg:https://neworg.ecenterdirect.com/image/57FF054F-D165-4B09-8ADD-F28063A34752
END:VEVENT
BEGIN:VEVENT
DTSTART;TZID=America/Los_Angeles:20210910T140000
DTEND;TZID=America/Los_Angeles:20210910T150000
DTSTAMP:20210922T033945
CREATED:20210817T001237Z
LAST-MODIFIED:20210817T001237Z
UID:13664-1631282400-1631286000@staging-newwbc.kinsta.cloud
SUMMARY:California Relief Grant
DESCRIPTION:This grant is for business owners that started their operation on June 1st\, 2019 or before. Who can show at least a 25% decrease in their sales from 2019 to 2020 and who made in 2020 at least $1000 in sales. Join our webinar and we will walk you through the application. If you need immediate help book an appointment for one of our advisors to guide you through the process.
URL:https://staging-newwbc.kinsta.cloud/event/california-relief-grant-12/
ATTACH;FMTTYPE=image/jpeg:https://neworg.ecenterdirect.com/image/417E5B8E-7357-4D89-A42A-566E5C48EDB9
END:VEVENT
END:VCALENDAR